BEGIN:VCALENDAR
VERSION:2.0
PRODID:-//Second Haven MC - ECPv6.15.17//NONSGML v1.0//EN
CALSCALE:GREGORIAN
METHOD:PUBLISH
X-ORIGINAL-URL:https://www.secondhavenmc.org
X-WR-CALDESC:Events for Second Haven MC
REFRESH-INTERVAL;VALUE=DURATION:PT1H
X-Robots-Tag:noindex
X-PUBLISHED-TTL:PT1H
BEGIN:VTIMEZONE
TZID:America/New_York
BEGIN:DAYLIGHT
TZOFFSETFROM:-0500
TZOFFSETTO:-0400
TZNAME:EDT
DTSTART:20250309T070000
END:DAYLIGHT
BEGIN:STANDARD
TZOFFSETFROM:-0400
TZOFFSETTO:-0500
TZNAME:EST
DTSTART:20251102T060000
END:STANDARD
BEGIN:DAYLIGHT
TZOFFSETFROM:-0500
TZOFFSETTO:-0400
TZNAME:EDT
DTSTART:20260308T070000
END:DAYLIGHT
BEGIN:STANDARD
TZOFFSETFROM:-0400
TZOFFSETTO:-0500
TZNAME:EST
DTSTART:20261101T060000
END:STANDARD
BEGIN:DAYLIGHT
TZOFFSETFROM:-0500
TZOFFSETTO:-0400
TZNAME:EDT
DTSTART:20270314T070000
END:DAYLIGHT
BEGIN:STANDARD
TZOFFSETFROM:-0400
TZOFFSETTO:-0500
TZNAME:EST
DTSTART:20271107T060000
END:STANDARD
END:VTIMEZONE
BEGIN:VEVENT
DTSTART;TZID=America/New_York:20260328T150000
DTEND;TZID=America/New_York:20260328T160000
DTSTAMP:20260420T021446
CREATED:20260320T132152Z
LAST-MODIFIED:20260326T190023Z
UID:1761-1774710000-1774713600@www.secondhavenmc.org
SUMMARY:Quest Builders Workshop
DESCRIPTION:Our next quest will be a group adventure with a storyline\, characters\, new scenes\, puzzles\, and challenges. WiseOldQuokka has a fascinating premise. Join us to hear more. \nMeet up in the Quest Builders Workshop (type /warp adventure-workshop)\, a new in-game work space\, and warp to different locations to explore ideas and new possibilities. \nWant to participate in the next quest without spoilers? You’re still welcome to join us in-game\, just don’t listen in on the voice channel… or open the secret chests.) \n 
URL:https://www.secondhavenmc.org/event/quest-builders-workshop/
LOCATION:Discord + Minecraft
CATEGORIES:Game Design
ATTACH;FMTTYPE=image/png:https://www.secondhavenmc.org/wp-content/uploads/2026/03/event-quest-builders-no-text.png
ORGANIZER;CN="Lisa Lindeman":MAILTO:support@buildhumancommunity.org
END:VEVENT
END:VCALENDAR